BEGIN:VCALENDAR
VERSION:2.0
PRODID:-//Safe Food Alliance - ECPv6.15.17.1//NONSGML v1.0//EN
CALSCALE:GREGORIAN
METHOD:PUBLISH
X-WR-CALNAME:Safe Food Alliance
X-ORIGINAL-URL:https://safefoodalliance.com
X-WR-CALDESC:Events for Safe Food Alliance
REFRESH-INTERVAL;VALUE=DURATION:PT1H
X-Robots-Tag:noindex
X-PUBLISHED-TTL:PT1H
BEGIN:VTIMEZONE
TZID:America/Los_Angeles
BEGIN:DAYLIGHT
TZOFFSETFROM:-0800
TZOFFSETTO:-0700
TZNAME:PDT
DTSTART:20250309T100000
END:DAYLIGHT
BEGIN:STANDARD
TZOFFSETFROM:-0700
TZOFFSETTO:-0800
TZNAME:PST
DTSTART:20251102T090000
END:STANDARD
BEGIN:DAYLIGHT
TZOFFSETFROM:-0800
TZOFFSETTO:-0700
TZNAME:PDT
DTSTART:20260308T100000
END:DAYLIGHT
BEGIN:STANDARD
TZOFFSETFROM:-0700
TZOFFSETTO:-0800
TZNAME:PST
DTSTART:20261101T090000
END:STANDARD
BEGIN:DAYLIGHT
TZOFFSETFROM:-0800
TZOFFSETTO:-0700
TZNAME:PDT
DTSTART:20270314T100000
END:DAYLIGHT
BEGIN:STANDARD
TZOFFSETFROM:-0700
TZOFFSETTO:-0800
TZNAME:PST
DTSTART:20271107T090000
END:STANDARD
END:VTIMEZONE
BEGIN:VEVENT
DTSTART;TZID=America/Los_Angeles:20260304T090000
DTEND;TZID=America/Los_Angeles:20260304T120000
DTSTAMP:20260422T035438
CREATED:20251031T215614Z
LAST-MODIFIED:20251031T215614Z
UID:79346-1772614800-1772625600@safefoodalliance.com
SUMMARY:Food Defense Fundamentals - Virtual
DESCRIPTION:The Food Defense Fundamentals course is designed to help participants understand and implement strategies to protect the food supply from intentional contamination and other security threats. This course covers the principles of food defense\, including vulnerability assessments\, mitigation strategies\, and the development of a food defense plan that complies with regulatory requirements\, such as the FDA’s Intentional Adulteration Rule under FSMA. Participants will gain practical insights into how to secure their facilities\, train employees\, and respond effectively to potential food defense incidents\, ensuring the safety and integrity of their products. \nWho Should Attend\nEmployees who already possess a general knowledge and understanding of food safety and are looking for more information specific to the subject of food defense and FSMA’s Intentional Adulteration Rule. \nCancellation Policy: Cancellations for public training must be made at least 10 business days before the event for a full refund. Requests for refunds 10 business days or less before the training will be subject to a 50% cancellation fee. No refunds (or credit transfer) will be issued 5 business days or less before the training.
URL:https://safefoodalliance.com/event/food-defense-fundamentals-virtual/
CATEGORIES:Prerequisite Programs
ATTACH;FMTTYPE=image/png:https://safefoodalliance.com/wp-content/uploads/2025/10/Food-Defense-Fundamentals.png
LOCATION:https://us02web.zoom.us/j/86093042007
END:VEVENT
END:VCALENDAR