BEGIN:VCALENDAR
VERSION:2.0
PRODID:-//Safe Food Alliance - ECPv6.15.17.1//NONSGML v1.0//EN
CALSCALE:GREGORIAN
METHOD:PUBLISH
X-WR-CALNAME:Safe Food Alliance
X-ORIGINAL-URL:https://safefoodalliance.com
X-WR-CALDESC:Events for Safe Food Alliance
REFRESH-INTERVAL;VALUE=DURATION:PT1H
X-Robots-Tag:noindex
X-PUBLISHED-TTL:PT1H
BEGIN:VTIMEZONE
TZID:America/Los_Angeles
BEGIN:DAYLIGHT
TZOFFSETFROM:-0800
TZOFFSETTO:-0700
TZNAME:PDT
DTSTART:20250309T100000
END:DAYLIGHT
BEGIN:STANDARD
TZOFFSETFROM:-0700
TZOFFSETTO:-0800
TZNAME:PST
DTSTART:20251102T090000
END:STANDARD
BEGIN:DAYLIGHT
TZOFFSETFROM:-0800
TZOFFSETTO:-0700
TZNAME:PDT
DTSTART:20260308T100000
END:DAYLIGHT
BEGIN:STANDARD
TZOFFSETFROM:-0700
TZOFFSETTO:-0800
TZNAME:PST
DTSTART:20261101T090000
END:STANDARD
BEGIN:DAYLIGHT
TZOFFSETFROM:-0800
TZOFFSETTO:-0700
TZNAME:PDT
DTSTART:20270314T100000
END:DAYLIGHT
BEGIN:STANDARD
TZOFFSETFROM:-0700
TZOFFSETTO:-0800
TZNAME:PST
DTSTART:20271107T090000
END:STANDARD
END:VTIMEZONE
BEGIN:VEVENT
DTSTART;TZID=America/Los_Angeles:20260304T130000
DTEND;TZID=America/Los_Angeles:20260304T160000
DTSTAMP:20260424T015453
CREATED:20251204T222224Z
LAST-MODIFIED:20260228T010523Z
UID:88313-1772629200-1772640000@safefoodalliance.com
SUMMARY:Food Fraud Fundamentals - Virtual
DESCRIPTION:The Food Fraud Fundamentals course is designed to equip participants with the knowledge and tools needed to identify\, prevent\, and mitigate the risks of food fraud within the supply chain. This course covers the key concepts of food fraud\, including economically motivated adulteration\, food authenticity\, and vulnerability assessments. The course provides practical guidance on monitoring\, detection\, and response strategies to effectively manage and reduce the risk of food fraud incidents. \nWho Should Attend \nEmployees who already possess a general knowledge and understanding of food safety and are looking for more information specific to the subject of food fraud and GFSI -benchmarked audit scheme requirements. \nWhat You’ll Get \n\nCopy of the presentation\nCertificate of Training
URL:https://safefoodalliance.com/event/food-fraud-fundamentals-virtual/
CATEGORIES:Prerequisite Programs
ATTACH;FMTTYPE=image/png:https://safefoodalliance.com/wp-content/uploads/2025/12/Food-Fraud-Fundamentals.png
LOCATION:https://us02web.zoom.us/j/82751353675
END:VEVENT
END:VCALENDAR